0.85863258673116
0.00000000000000
0.00000000000000
-0.85863258673116
224662
87327.8
