2.00000000000000
0.00000000000000
0.00000000000000
-2.00000000000000
229232.25000000000000
64663.50000000000000
