0.50000000000000
0.00000000000000
0.00000000000000
-0.50000000000000
230151.25000000000000
64101.75000000000000
