0.50000000000000
0.00000000000000
0.00000000000000
-0.50000000000000
230069.50000000000000
63455.00000000000000
