0.50000000000000
0.00000000000000
0.00000000000000
-0.50000000000000
230055.75000000000000
62720.50000000000000
