0.50000000000000
0.00000000000000
0.00000000000000
-0.50000000000000
230376.25000000000000
64665.00000000000000
