5.00
0.0
0.0
-5.00
192443
111318
