5.00
0.0
0.0
-5.00
197862
111315
