5.00
0.0
0.0
-5.00
170947
159939
