5.00
0.0
0.0
-5.00
176353
166859
