5.00
0.0
0.0
-5.00
192526
201524
