5.00
0.0
0.0
-5.00
192533
208463
