5.00
0.0
0.0
-5.00
192469
139072
