5.00
0.0
0.0
-5.00
219591
90525
