5.00
0.0
0.0
-5.00
214145
97451
