5.00
0.0
0.0
-5.00
181496
62768
