5.00
0.0
0.0
-5.00
186959
69695
