5.00
0.0
0.0
-5.00
176248
132165
