5.00
0.0
0.0
-5.00
176270
139104
