5.00
0.0
0.0
-5.00
171101
201574
