5.00
0.0
0.0
-5.00
176457
201555
