5.00
0.0
0.0
-5.00
181590
104397
