5.00
0.0
0.0
-5.00
187014
104387
