5.00
0.0
0.0
-5.00
181606
111336
