5.00
0.0
0.0
-5.00
187025
111325
