5.00
0.0
0.0
-5.00
203298
76624
