5.00
0.0
0.0
-5.00
208740
76629
