5.00
0.0
0.0
-5.00
203294
83563
