5.00
0.0
0.0
-5.00
208732
83567
