5.00
0.0
0.0
-5.00
181558
90521
