5.00
0.0
0.0
-5.00
186992
90511
