5.00
0.0
0.0
-5.00
181574
97458
