5.00
0.0
0.0
-5.00
187002
97448
