5.00
0.0
0.0
-5.00
192412
76627
