5.00
0.0
0.0
-5.00
197856
83562
