5.00
0.0
0.0
-5.00
192457
125195
