5.00
0.0
0.0
-5.00
214208
62761
