5.00
0.0
0.0
-5.00
214195
69699
