5.00
0.0
0.0
-5.00
214183
76637
