5.00
0.0
0.0
-5.00
219625
76649
