5.00
0.0
0.0
-5.00
214170
83575
