5.00
0.0
0.0
-5.00
219607
83586
