5.00
0.0
0.0
-5.00
192431
97442
