5.00
0.0
0.0
-5.00
197860
97439
