5.00
0.0
0.0
-5.00
165621
173838
