5.00
0.0
0.0
-5.00
165652
180778
