5.00
0.0
0.0
-5.00
181654
132151
