5.00
0.0
0.0
-5.00
187069
139079
