5.00
0.0
0.0
-5.00
186937
55820
