5.00
0.0
0.0
-5.00
170895
146060
